BEGIN:VCALENDAR
PRODID:-//hacksw/handcal//NONSGML v1.0//EN
VERSION:2.0
METHOD:PUBLISH
BEGIN:VEVENT
DTSTART:20141030T200000Z
DTEND:20141030T210000Z
LOCATION:University Club, 111 Lyon NW, Grand Rapids MI
UID:1145320141030T200000ZSpeed Networking Event
DTSTAMP:20260421T175010Z
DESCRIPTION:
SUMMARY:Speed Networking Event - Western Michigan Estate Planning Council 
PRIORITY:3
BEGIN:VALARM
TRIGGER:PT18H
ACTION:DISPLAY
DESCRIPTION:Reminder
END:VALARM
END:VEVENT
END:VCALENDAR