BEGIN:VCALENDAR
PRODID:-//hacksw/handcal//NONSGML v1.0//EN
VERSION:2.0
METHOD:PUBLISH
BEGIN:VEVENT
DTSTART:20150429T200000Z
DTEND:20150429T210000Z
LOCATION:Eberhard Center, 301 Fulton Street West, Grand Rapids MI
UID:1145720150429T200000ZRoth Immersion Workshop
DTSTAMP:20260421T180735Z
DESCRIPTION:
SUMMARY:Roth Immersion Workshop - Western Michigan Estate Planning Council 
PRIORITY:3
BEGIN:VALARM
TRIGGER:PT18H
ACTION:DISPLAY
DESCRIPTION:Reminder
END:VALARM
END:VEVENT
END:VCALENDAR