BEGIN:VCALENDAR
PRODID:-//hacksw/handcal//NONSGML v1.0//EN
VERSION:2.0
METHOD:PUBLISH
BEGIN:VEVENT
DTSTART:20151110T210000Z
DTEND:20151110T220000Z
LOCATION:University Club, Grand Rapids MI
UID:1247620151110T210000ZGuest Speaker Ray Odom with Northern Trust - Chicago
DTSTAMP:20260421T175247Z
DESCRIPTION:\nTurning Wealth Transfer Values into Wealth Transfer Plans\n \nWhat Do They Really Care About?   Closing the Gap Between Advisers and Clients\n \n \n \nThe idea that we work in a service economy where we provide professional and financial services is becoming obsolete.  We really work in an “Experience Economy” and the experience that many of our clients have when getting estate planning services often falls woefully short of their expectations.  What is the job clients really hire their estate planner to do? This presentation will show that clients expect advisors to understand not only their fears of loss (taxation, mismanagement and waste) but their expectations for happiness.  In order to close the service/experience  gap estate planners must guide clients into a transformational planning experience.  This experience must provide client joy in benefiting-the-beneficiariestm , client purposefulness in determining asset destinations and client clarity in a well communicated message-of-the-money”.   This presentation will show how advisors can provide this kind of experience.\n \nWestern Michigan Estate Planning Council Members no charge - Guests $25\n
SUMMARY:Guest Speaker Ray Odom with Northern Trust - Chicago - Western Michigan Estate Planning Council 
PRIORITY:3
BEGIN:VALARM
TRIGGER:PT18H
ACTION:DISPLAY
DESCRIPTION:Reminder
END:VALARM
END:VEVENT
END:VCALENDAR