BEGIN:VCALENDAR
PRODID:-//hacksw/handcal//NONSGML v1.0//EN
VERSION:2.0
METHOD:PUBLISH
BEGIN:VEVENT
DTSTART:20160419T200000Z
DTEND:20160419T210000Z
LOCATION:University Club, Grand Rapids MI
UID:1254220160419T200000ZGuest Speaker Chris Simons with Clark Retirement Community
DTSTAMP:20260421T095359Z
DESCRIPTION:\nJoin us as we learn:\n What is Dementia?\n How to communicate with someone with dementia?\n How do you recognize it?\n How do you help the person plan for their wishes?\n Resources for families and you?\n \nWestern MI Estate Planning Council Members no charge - Guests $25\n \n \n
SUMMARY:Guest Speaker Chris Simons with Clark Retirement Community - Western Michigan Estate Planning Council 
PRIORITY:3
BEGIN:VALARM
TRIGGER:PT18H
ACTION:DISPLAY
DESCRIPTION:Reminder
END:VALARM
END:VEVENT
END:VCALENDAR