BEGIN:VCALENDAR
PRODID:-//hacksw/handcal//NONSGML v1.0//EN
VERSION:2.0
METHOD:PUBLISH
BEGIN:VEVENT
DTSTART:20160121T210000Z
LOCATION:GravityTaphouse Grille ( E. Beltline NE & I-96)
UID:1265020160121T210000ZSocial Event for Members
DTSTAMP:20260421T175423Z
DESCRIPTION:
SUMMARY:Social Event for Members - Western Michigan Estate Planning Council 
PRIORITY:3
BEGIN:VALARM
TRIGGER:PT18H
ACTION:DISPLAY
DESCRIPTION:Reminder
END:VALARM
END:VEVENT
END:VCALENDAR