BEGIN:VCALENDAR
PRODID:-//hacksw/handcal//NONSGML v1.0//EN
VERSION:2.0
METHOD:PUBLISH
BEGIN:VEVENT
DTSTART:20170123T190000Z
DTEND:20170123T220000Z
LOCATION:GVSU Eberhard Center, Grand Rapids MI
UID:1421320170123T190000ZGuest Speaker - Sam Donaldson
DTSTAMP:20260421T174610Z
DESCRIPTION:\nSam Donaldson is Professor of Law Georgia State University and will present his topic on Current Tax & Estate Planning Issues.\n \n \n
SUMMARY:Guest Speaker - Sam Donaldson - Western Michigan Estate Planning Council 
PRIORITY:3
BEGIN:VALARM
TRIGGER:PT18H
ACTION:DISPLAY
DESCRIPTION:Reminder
END:VALARM
END:VEVENT
END:VCALENDAR