BEGIN:VCALENDAR
PRODID:-//hacksw/handcal//NONSGML v1.0//EN
VERSION:2.0
METHOD:PUBLISH
BEGIN:VEVENT
DTSTART:20171017T193000Z
DTEND:20171017T210000Z
LOCATION:University Club: 10th Floor of Fifth Third Center, 111 Lyon NW, Grand Rapids
UID:1612620171017T193000ZDivorce and Prenuptial Planning
DTSTAMP:20260421T180134Z
DESCRIPTION:\nMembers no charge - Guests $25\n \nEmail westmichiganepc@gmail.com to RSVP.\n
SUMMARY:Divorce and Prenuptial Planning - Western Michigan Estate Planning Council 
PRIORITY:3
BEGIN:VALARM
TRIGGER:PT18H
ACTION:DISPLAY
DESCRIPTION:Reminder
END:VALARM
END:VEVENT
END:VCALENDAR