BEGIN:VCALENDAR
PRODID:-//hacksw/handcal//NONSGML v1.0//EN
VERSION:2.0
METHOD:PUBLISH
BEGIN:VEVENT
DTSTART:20171206T210000Z
DTEND:20171207T000000Z
LOCATION:Grand Rapids Brewing Company: 1 Ionia Ave. SW, Grand Rapids
UID:1612820171206T210000ZAnnual Holiday TRIVIA Event
DTSTAMP:20260421T175133Z
DESCRIPTION:\nThe WMEPC is celebrating the holiday season with their annual TRIVIA event. Join us for a night filled with fun, food, drinks and prizes. Significant others welcome!\n \nNo charge for members and guests.\n \nEmail westmichiganepc@gmail.com to RSVP.\n
SUMMARY:Annual Holiday TRIVIA Event - Western Michigan Estate Planning Council 
PRIORITY:3
BEGIN:VALARM
TRIGGER:PT18H
ACTION:DISPLAY
DESCRIPTION:Reminder
END:VALARM
END:VEVENT
END:VCALENDAR