BEGIN:VCALENDAR
PRODID:-//hacksw/handcal//NONSGML v1.0//EN
VERSION:2.0
METHOD:PUBLISH
BEGIN:VEVENT
DTSTART:20190829T120000Z
DTEND:20190829T133000Z
LOCATION:Warner, Norcross & Judd, 111 Lyon St NW Ste 900, Grand Rapids, MI 49503
UID:1815620190829T120000ZGroup Webinar: Technology in Your Estate Planning Practice
DTSTAMP:20260421T174529Z
DESCRIPTION:\nThis program will explore a wide range of practical considerations of how practitioners can use technology to better serve clients, protect themselves from malpractice claims, market, be more cost efficient, and much more. Specific practical practice examples will be given, not merely theoretical discussions.\n \nMartin M. Shenkman, CPA, MBA, JD, PFS, AEP® (Distinguished) is an attorney and estate planner in Fort Lee, NJ and New York City. His practice concentrates on planning for high net worth individuals. He is the author of 43 books and more than 1,200 articles. He is a member of the NAEPC Board of Directors (Emeritus).\n \nCertificates of Completion will be provided at the event.\n \nRefreshments: 8:00 am\n Webinar: 8:30 - 9:30 pm\n \nClick on the link below to register. \n \nPlease contact Jeanna Post at admin@westernmichiganepc.org with questions.\n
SUMMARY:Group Webinar: Technology in Your Estate Planning Practice - Western Michigan Estate Planning Council 
PRIORITY:3
BEGIN:VALARM
TRIGGER:PT18H
ACTION:DISPLAY
DESCRIPTION:Reminder
END:VALARM
END:VEVENT
END:VCALENDAR