BEGIN:VCALENDAR
PRODID:-//hacksw/handcal//NONSGML v1.0//EN
VERSION:2.0
METHOD:PUBLISH
BEGIN:VEVENT
DTSTART:20200211T123000Z
DTEND:20200211T140000Z
LOCATION:Watermark Country Club, 5500 Cascade Road SE, Grand Rapids, MI 49546
UID:1880320200211T123000ZPanel Discussion: Long Term Care Planning
DTSTAMP:20260421T175516Z
DESCRIPTION:\n \n \nAs our clients (and family members) age, they navigate the complex area of long term care. While the transitions themselves can be challenging, the decisions and planning around this area prove to be even more complex. Our panel of experts will address several areas of planning within this space including the range and types of care available, how to find the right care, the impact of long term care insurance, the evolution of long term care policies, when to consider Medicaid planning, Medicaid annuities, and how to be prepared through the various stages of this major life change. \n \nPANEL MEMBERS:\n \nElizabeth Eardley, President, Crossroads Eldercare Planning\n When seniors and their families experience an eldercare crisis and suddenly find themselves needing answers, it is not uncommon for their lives to unravel. Elizabeth’s great passion is helping these families to get accurate, quick information on their eldercare options so that these important decisions can be made with confidence and clarity. As Founder and President of Crossroads Eldercare Planning, Elizabeth’s mission is to be on the front lines of the eldercare industry and to stay very knowledgeable so that she can educate families in a clear, concise and thorough manner on their choices for eldercare. Elizabeth’s goal is to never have a family look back and say, “if only I had known…”. Elizabeth is a lifelong resident of Grand Rapids, an enthusiastic MSU Spartan, and lives in Grand Rapids with her two teenage sons and her black lab. She is on the board of the Council on Aging, the West Michigan Healthcare Network, and Senior Neighbors.\n \nSteven Gibson, CFP, Plante Moran \n Steve is a wealth transfer specialist in the wealth management practice at Plante Moran in Chicago. He is known for helping high-net-worth clients develop financial planning strategies that maximize the transfer of wealth to the next generation, as well as the supporting of charitable causes. With over 15 years of experience, Steve specializes in estate planning, business succession strategies, and complex life insurance planning. He also helps families develop a plan on how to effectively and efficiently transfer wealth with as little cost and the greatest leverage to meet their goals. Steve holds a BSB in finance from the Carlson School of Management University of Minnesota.\n \nCatherine Jacobs, Senior Council, Warner Norcross & Judd\n Catherine provides comprehensive estate and succession planning for individuals, families and businesses. She owned and operated her own law firm for seven years where she helped families plan for their future, provided elder law planning services in the areas of Medicaid qualification, and assisted clients with loved-ones with special needs in addition to her core trust and estate planning services. A well-respected advocate, Catherine still approaches her business the same way – with a deep understanding of clients’ needs and a plan for their future and beyond. She regularly speaks on topics of estate and succession planning, elder law and special needs care all over the state of Michigan for associations, foundations and universities. Catherine also devotes numerous hours and resources to serving on community boards and committees for Elder Law of Michigan, Ada Township, Senior Neighbors Grand Rapids, Caregiver Resource Network, the Council on Aging and Forest Hills Community Foundation. \n \nRegistration and Breakfast: 7:30am\n Panel Discussion: 8:00am - 9:00am\n \nPlease contact Jeanna Post at admin@westernmichiganepc.org with questions.\n
SUMMARY:Panel Discussion: Long Term Care Planning - Western Michigan Estate Planning Council 
PRIORITY:3
BEGIN:VALARM
TRIGGER:PT18H
ACTION:DISPLAY
DESCRIPTION:Reminder
END:VALARM
END:VEVENT
END:VCALENDAR