BEGIN:VCALENDAR
PRODID:-//hacksw/handcal//NONSGML v1.0//EN
VERSION:2.0
METHOD:PUBLISH
BEGIN:VEVENT
DTSTART:20210921T203000Z
DTEND:20210921T223000Z
LOCATION:Founders Brewing Company - Centennial Room 
UID:2131320210921T203000ZMark Your Calendar- WMEPC Social Gathering
DTSTAMP:20260421T175516Z
DESCRIPTION:\nFALL MEMBER SOCIAL\n \nWhen: Tuesday, September 21, 2021\n \nWhere: Founders Brewing Company (Centennial Room)\n \nTime: 4:30 pm - 6:30 pm\n \nContact: Dori Sullivan at dori@grandwealth.com for questions\n \n \n
SUMMARY:Mark Your Calendar- WMEPC Social Gathering - Western Michigan Estate Planning Council 
PRIORITY:3
BEGIN:VALARM
TRIGGER:PT18H
ACTION:DISPLAY
DESCRIPTION:Reminder
END:VALARM
END:VEVENT
END:VCALENDAR