BEGIN:VCALENDAR
PRODID:-//hacksw/handcal//NONSGML v1.0//EN
VERSION:2.0
METHOD:PUBLISH
BEGIN:VEVENT
DTSTART:20221006T183000Z
DTEND:20221006T210000Z
LOCATION:L.V. Eberhard Center at GVSU, 301 Fulton West, Grand Rapids, MI 49504
UID:2329720221006T183000ZRecent Developments in Estate Planning with Samuel A. Donaldson
DTSTAMP:20260421T174658Z
DESCRIPTION:\n\nWhat the Cool Kids Are Doing in Estate Planning!\n In light of recent developments, some estate planning strategies have become especially popular. We are excited to welcome Samuel A. Donaldson to West Michigan for an informative and entertaining presentation on "What the Cool Kids Are Doing in Estate Planning". He will explain and evaluate several “hot” planning ideas, including spousal lifetime access trusts, charitable remainder trusts as beneficiaries of retirement accounts, ultra-long-term GRATs, incomplete gift nongrantor trusts, and more.  \n \nSpeaker's Biography: \n Samuel A. Donaldson [J.D. University of Arizona; LL.M. (Taxation) University of Florida] is a Professor of Law at Georgia State University in Atlanta. Prior to joining the Georgia State faculty in 2012, he was on the faculty at the University of Washington School of Law in Seattle for 13 years. During his tenure at the University of Washington, he was a five-time recipient of the Philip A. Trautman Professor of the Year award from the School of Law’s Student Bar Association. Professor Donaldson served for two years as Associate Dean for Academic Administration and for six years as the Director of the law school’s Graduate Program in Taxation. He teaches a number of tax and estate planning courses, as well as courses in the areas of property, commercial law, and professional responsibility.\n \nIn addition to Georgia State and the University of Washington, Professor Donaldson has taught law school classes at Northwestern University, the University of Florida, and Emory University. He is an Academic Fellow of the American College of Trust and Estate Counsel (ACTEC) and a member of the Bar in Washington, Oregon, and Arizona. Among his scholarly works, Professor Donaldson is a co-author of the popular West casebook, Federal Income Tax: A Contemporary Approach, and a co-author of the Price on Contemporary Estate Planning reference volume published by Wolters Kluwer.\n \nAn amateur crossword constructor, his puzzles have been published in The New York Times, The Los Angeles Times, The Washington Post, The Wall Street Journal, and other outlets. A perennial contender for People Magazine’s “Sexiest Man Alive” honor, Professor Donaldson was recently notified by email of his selection to receive substantial sums of money from high-level Nigerian business officials in exchange for his bank account information.\n \nAgenda:\n2:15pm - Registration\n 2:30pm - Opening Remarks\n2:45pm - Presentation (Part 1)\n3:30pm - Refreshments\n4:00pm - Presentation (Part 2)\n4:45pm - Wrap Up\n \nCost:\n Members: No Charge\n Guests: $25.00\n\nJoin WMEPC and attend for free! Click [HERE](https://www.westernmichiganepc.org/members/application) to apply for membership.\n \n[Directions and Parking](https://www.gvsu.edu/meetatgvsu/eberhard-driving-directions-163.htm)\n \nPlease contact Jeanna Post at admin@westernmichiganepc.org with questions.\n
SUMMARY:Recent Developments in Estate Planning with Samuel A. Donaldson - Western Michigan Estate Planning Council 
PRIORITY:3
BEGIN:VALARM
TRIGGER:PT18H
ACTION:DISPLAY
DESCRIPTION:Reminder
END:VALARM
END:VEVENT
END:VCALENDAR