BEGIN:VCALENDAR
PRODID:-//hacksw/handcal//NONSGML v1.0//EN
VERSION:2.0
METHOD:PUBLISH
BEGIN:VEVENT
DTSTART:20230718T203000Z
DTEND:20230718T223000Z
LOCATION:The Centennial Room at Founders Brewing Co.
UID:2434920230718T203000ZWMEPC Social at Founders Brewing Co.
DTSTAMP:20260421T174821Z
DESCRIPTION:\n \n \nJoin us at Founders for some after-work socializing. Business cards welcomed but not required! Appetizers and drink tickets included. There is no charge to attend this event but please register by clicking on the link below. \n \nPlease respond by July 10 with how many will be in your party so we can give Founders a general head count. \n \nAddress: 235 Grandville Ave. SW, Grand Rapids, MI 49503\n \nParking: There is a gated parking lot between Goodrich St. and Bartlett St. (just south of venue). The entrance to this lot is on Goodrich and the exit is on Bartlett. Parking is free for event attendees. \n \n \n
SUMMARY:WMEPC Social at Founders Brewing Co. - Western Michigan Estate Planning Council 
PRIORITY:3
BEGIN:VALARM
TRIGGER:PT18H
ACTION:DISPLAY
DESCRIPTION:Reminder
END:VALARM
END:VEVENT
END:VCALENDAR