BEGIN:VCALENDAR
PRODID:-//hacksw/handcal//NONSGML v1.0//EN
VERSION:2.0
METHOD:PUBLISH
BEGIN:VEVENT
DTSTART:20240924T190000Z
DTEND:20240924T210000Z
LOCATION:GVSU Seidman Center, Grand Rapids
UID:2599120240924T190000ZComplex Assets, DAFs, and an Historic Transfer of Wealth: An In-person Live Webinar
DTSTAMP:20260421T174636Z
DESCRIPTION:\nPlease join us for a live webinar with NAEPC board member, Ginger Mlakar, JD, CPA, AEP®, as we explore complex assets and donor advised funds within the context of the historic transfer of wealth expected to begin as early as 2025.  Ginger will discuss statistics, trends, and studies that will have an impact at the local level. Studies indicate that too many professionals in an advisory role are not initiating discussions with their clients about how to direct their charitable giving. Let's come together to learn how we might better serve our clients and donors as they face a turning point in their charitable planning. \n \n \n \nWhat: Live webinar with Ginger Mlakar, JD, CPA, AEP®, Philanthropic Advisor, Cleveland Foundation\n \n \n \nDate: September 24, 2024 \n \nTime: 3pm - 5pm\n \nWhere: L. Seidman Center at GVSU   50 Front Street, SW, Grand Rapids, MI 49504\n \nParking: On site free parking available to attendees.\n \nCost: No cost to WMEPC members; $25 for guests*\n \n     * Consider [applying to join](https://urldefense.com/v3/__https:/linkprotect.cudasvc.com/url?a=https*3a*2f*2fwww.westernmichiganepc.org*2fmembers*2fapplication&c=E,1,r4v9OzAJ0BhguyUxXVvQ92XbEOM7U3QIaLtuk_k01HbJzAgIyYWL58pkfINO5YsWDZQxJoatfgjUmtBhuElVirLIno2IpaQKh_yGhJ2WXJWL4Z95aHOKE2JpRg,,&typo=1__;JSUlJSU!!DQv46r5x2oY!I8vf11ADVaRHQz5lh_kn_r7CsMnl1TehG8673ERv6OUlXZQ2kq-55_f6fDqfyePyraSxAoXZxg5Btujb5OrPAQOo$) the WMEPC and attendance to this and other professional development events are free!\n \nWe will begin with light snacks and beverages while networking. The live webinar will begin at 3:30 with some time for questions and further networking at the end. \n \nAbout Ginger Mlakar: \n \nGinger Mlakar serves as in-house legal counsel and manages the Cleveland Foundation's legal affairs. She came to the Foundation in July 2009 after 16 years practicing law in estate, trust and charitable gift planning and administration. Ginger has served on the boards of several area organizations, including the Girl Scouts of Lake Erie Council, the Estate Planning Council of Cleveland, the LGBT Community Center of Greater Cleveland, as treasurer for the Cleveland Metropolitan Bar Association, president for the Cleveland Metropolitan Bar Foundation, and several others. She is currently on the board for the National Association of Estate Planners and Councils and is an Accredited Estate Planner (AEP®). She is an active fellow of the American College of Estate and Trust Council, and an Estate Planning, Trust and Probate Law Council member for the Ohio State Bar Association. Ginger is a frequent speaker on legal and tax issues surrounding charitable giving.  Ginger has received the Cleveland Metropolitan Bar Association's Women in Law Making a Difference and President's Awards, the Cleveland Metropolitan Bar Foundation's Outstanding Leadership Award, the Estate Planning Council of Cleveland’s 2019 Distinguished Estate Planner Award, and the 2022 Women of Professional Excellence from the YWCA of Greater Cleveland. She graduated summa cum laude from The Ohio State University with a Bachelor of Science degree in business administration and earned her juris doctorate from The Ohio State University Moritz College of Law.\n \n \n
SUMMARY:Complex Assets, DAFs, and an Historic Transfer of Wealth: An In-person Live Webinar - Western Michigan Estate Planning Council 
PRIORITY:3
BEGIN:VALARM
TRIGGER:PT18H
ACTION:DISPLAY
DESCRIPTION:Reminder
END:VALARM
END:VEVENT
END:VCALENDAR