BEGIN:VCALENDAR
PRODID:-//hacksw/handcal//NONSGML v1.0//EN
VERSION:2.0
METHOD:PUBLISH
BEGIN:VEVENT
DTSTART:20250820T203000Z
DTEND:20250820T223000Z
LOCATION:Founder's Brewing - Centennial Room
UID:2759320250820T203000ZWMEPC Summer Social 2025
DTSTAMP:20260421T174822Z
DESCRIPTION:\nIt's time for some refreshments to beat this summer heat! Join us for some casual networking and socializing. Beer tickets and snacks provided. Cash bar available for alternative beverages.\n \nThere is no charge to attend. Consider bringing a friend or colleague, meet new people, reconnect with familiar faces, and explore the many benefits of membership! \n \nFOUNDER'S BREWING - CENTENNIAL ROOM\n \nAddress: 235 Cesar E Chavez Ave. SW\n \nParking: On-street and local lots\n \nNot a member yet? Learn more here: https://www.westernmichiganepc.org/members/membershipAddl\n \nConsider applying for membership:   https://www.westernmichiganepc.org/members/application\n \n \n
SUMMARY:WMEPC Summer Social 2025 - Western Michigan Estate Planning Council 
PRIORITY:3
BEGIN:VALARM
TRIGGER:PT18H
ACTION:DISPLAY
DESCRIPTION:Reminder
END:VALARM
END:VEVENT
END:VCALENDAR