BEGIN:VCALENDAR
PRODID:-//hacksw/handcal//NONSGML v1.0//EN
VERSION:2.0
METHOD:PUBLISH
BEGIN:VEVENT
DTSTART:20260603T123000Z
DTEND:20260603T143000Z
LOCATION:GVSU - Richard DeVos Center - University Club: 401 Fulton St. W., Grand Rapids, MI
UID:2908720260603T123000ZCurrent Developments in Estate Planning with Steve Akers
DTSTAMP:20260421T115639Z
DESCRIPTION:\nThe Current Developments is a live, in-person webinar and will focus on practical issues for planners, including:\npractice-oriented observations from the 60th Annual Heckerling Institute.selected observations about planning under the OBBBA tax legislation.hot planning arrangements with qualified small business stock (QSBS).administrative announcements.GRAT litigation attacks (with observations from the briefs in Elcan v. Commissioner).gifts by beneficiaries in NJSA actions (McDougall v. Commissioner).privilege issues including from the use of artificial intelligence (U.S. v. Heppner).the treatment on the divorce of trust settlors of trusts created by them for descendants (C.S. v. R.H.).valuation of notes.tax effects of joint grantor trusts.and other late-breaking developments.\n\nAGENDA:\n\n8:30-9:00  Networking and morning beverages & snacks\n\n9:00-10:00  Program and Q&A\n\n10:00-10:30  Networking and program closure\n\nMore about the presenter:\n\nStephen Akers, Senior Fiduciary Counsel, Bessemer Trust\n\nMr. Akers is Managing Director and Senior Fiduciary Counsel at Bessemer Trust. In this role, he serves as Chair of the firmâs Estate Planning Committee and works closely with clients in the Southwest Region regarding their estate and trust planning issues. He joined Bessemer in 2001.\n\nSteve earned a J.D. from the University of Texas School of Law and a B.S. in chemical engineering from Oklahoma State University.\n
SUMMARY:Current Developments in Estate Planning with Steve Akers - Western Michigan Estate Planning Council 
PRIORITY:3
BEGIN:VALARM
TRIGGER:PT18H
ACTION:DISPLAY
DESCRIPTION:Reminder
END:VALARM
END:VEVENT
END:VCALENDAR