BEGIN:VCALENDAR
PRODID:-//hacksw/handcal//NONSGML v1.0//EN
VERSION:2.0
METHOD:PUBLISH
BEGIN:VEVENT
DTSTART:20260812T200000Z
DTEND:20260812T220000Z
LOCATION:Warner Norcross + Judd LLP
UID:2908820260812T200000ZSAVE THE DATE: 2026 WMEPC Summer Social
DTSTAMP:20260421T113723Z
DESCRIPTION:\nDetails coming soon!\n \n \n
SUMMARY:SAVE THE DATE: 2026 WMEPC Summer Social - Western Michigan Estate Planning Council 
PRIORITY:3
BEGIN:VALARM
TRIGGER:PT18H
ACTION:DISPLAY
DESCRIPTION:Reminder
END:VALARM
END:VEVENT
END:VCALENDAR