BEGIN:VCALENDAR
PRODID:-//hacksw/handcal//NONSGML v1.0//EN
VERSION:2.0
METHOD:PUBLISH
BEGIN:VEVENT
DTSTART:20111013T190000Z
DTEND:20111013T210000Z
LOCATION:Kroc Center - Grand Rapids, MI
UID:543420111013T190000ZBuy Sell Agreement
DTSTAMP:20260421T174458Z
DESCRIPTION:
SUMMARY:Buy Sell Agreement - Western Michigan Estate Planning Council 
PRIORITY:3
BEGIN:VALARM
TRIGGER:PT18H
ACTION:DISPLAY
DESCRIPTION:Reminder
END:VALARM
END:VEVENT
END:VCALENDAR