BEGIN:VCALENDAR
PRODID:-//hacksw/handcal//NONSGML v1.0//EN
VERSION:2.0
METHOD:PUBLISH
BEGIN:VEVENT
DTSTART:20130618T203000Z
DTEND:20130618T220000Z
LOCATION:Thousand Oaks Golf Course
UID:998320130618T203000ZPlanning for Retirement
DTSTAMP:20260421T175257Z
DESCRIPTION:
SUMMARY:Planning for Retirement - Western Michigan Estate Planning Council 
PRIORITY:3
BEGIN:VALARM
TRIGGER:PT18H
ACTION:DISPLAY
DESCRIPTION:Reminder
END:VALARM
END:VEVENT
END:VCALENDAR